BEGIN:VCALENDAR
VERSION:2.0
PRODID:-//Jeff Koertzen - ECPv6.15.20//NONSGML v1.0//EN
CALSCALE:GREGORIAN
METHOD:PUBLISH
X-WR-CALNAME:Jeff Koertzen
X-ORIGINAL-URL:https://jeffkoertzen.com
X-WR-CALDESC:Events for Jeff Koertzen
REFRESH-INTERVAL;VALUE=DURATION:PT1H
X-Robots-Tag:noindex
X-PUBLISHED-TTL:PT1H
BEGIN:VTIMEZONE
TZID:America/Los_Angeles
BEGIN:DAYLIGHT
TZOFFSETFROM:-0800
TZOFFSETTO:-0700
TZNAME:PDT
DTSTART:20240310T100000
END:DAYLIGHT
BEGIN:STANDARD
TZOFFSETFROM:-0700
TZOFFSETTO:-0800
TZNAME:PST
DTSTART:20241103T090000
END:STANDARD
BEGIN:DAYLIGHT
TZOFFSETFROM:-0800
TZOFFSETTO:-0700
TZNAME:PDT
DTSTART:20250309T100000
END:DAYLIGHT
BEGIN:STANDARD
TZOFFSETFROM:-0700
TZOFFSETTO:-0800
TZNAME:PST
DTSTART:20251102T090000
END:STANDARD
BEGIN:DAYLIGHT
TZOFFSETFROM:-0800
TZOFFSETTO:-0700
TZNAME:PDT
DTSTART:20260308T100000
END:DAYLIGHT
BEGIN:STANDARD
TZOFFSETFROM:-0700
TZOFFSETTO:-0800
TZNAME:PST
DTSTART:20261101T090000
END:STANDARD
END:VTIMEZONE
BEGIN:VTIMEZONE
TZID:UTC
BEGIN:STANDARD
TZOFFSETFROM:+0000
TZOFFSETTO:+0000
TZNAME:UTC
DTSTART:20220101T000000
END:STANDARD
END:VTIMEZONE
BEGIN:VEVENT
DTSTART;VALUE=DATE:20250530
DTEND;VALUE=DATE:20250602
DTSTAMP:20260423T080525
CREATED:20250403T231748Z
LAST-MODIFIED:20250403T231749Z
UID:10000008-1748563200-1748822399@jeffkoertzen.com
SUMMARY:2025 Convention
DESCRIPTION:
URL:https://jeffkoertzen.com/event/2025-convention/
LOCATION:Anaheim Convention Center\, 800 W. Katella Ave\, Anaheim\, CA\, 92802\, United States
CATEGORIES:Convention
ORGANIZER;CN="CADEM":MAILTO:operations@cadem.org
END:VEVENT
BEGIN:VEVENT
DTSTART;VALUE=DATE:20230526
DTEND;VALUE=DATE:20230529
DTSTAMP:20260423T080525
CREATED:20230417T110845Z
LAST-MODIFIED:20230417T110849Z
UID:10000003-1685059200-1685318399@jeffkoertzen.com
SUMMARY:CADEM Convention 2023
DESCRIPTION:The 2023 Spring Convention will kick off for most delegates on Friday\, May 26. The Regional Director election will be held on Saturday. It will be electronic this year\, so look for information as the date approaches.
URL:https://jeffkoertzen.com/event/cadem-convention-2023/
LOCATION:Los Angeles Convention Center\, 1201 South Figueroa Street\, Los Angeles\, CA\, 90015\, United States
CATEGORIES:Convention
ATTACH;FMTTYPE=image/png:https://jeffkoertzen.com/wp-content/uploads/2023/04/Convention2023.png
ORGANIZER;CN="CADEM":MAILTO:operations@cadem.org
END:VEVENT
END:VCALENDAR