BEGIN:VCALENDAR
VERSION:2.0
PRODID:-//Jeff Koertzen - ECPv6.15.20//NONSGML v1.0//EN
CALSCALE:GREGORIAN
METHOD:PUBLISH
X-ORIGINAL-URL:https://jeffkoertzen.com
X-WR-CALDESC:Events for Jeff Koertzen
REFRESH-INTERVAL;VALUE=DURATION:PT1H
X-Robots-Tag:noindex
X-PUBLISHED-TTL:PT1H
BEGIN:VTIMEZONE
TZID:America/Los_Angeles
BEGIN:DAYLIGHT
TZOFFSETFROM:-0800
TZOFFSETTO:-0700
TZNAME:PDT
DTSTART:20220313T100000
END:DAYLIGHT
BEGIN:STANDARD
TZOFFSETFROM:-0700
TZOFFSETTO:-0800
TZNAME:PST
DTSTART:20221106T090000
END:STANDARD
BEGIN:DAYLIGHT
TZOFFSETFROM:-0800
TZOFFSETTO:-0700
TZNAME:PDT
DTSTART:20230312T100000
END:DAYLIGHT
BEGIN:STANDARD
TZOFFSETFROM:-0700
TZOFFSETTO:-0800
TZNAME:PST
DTSTART:20231105T090000
END:STANDARD
BEGIN:DAYLIGHT
TZOFFSETFROM:-0800
TZOFFSETTO:-0700
TZNAME:PDT
DTSTART:20240310T100000
END:DAYLIGHT
BEGIN:STANDARD
TZOFFSETFROM:-0700
TZOFFSETTO:-0800
TZNAME:PST
DTSTART:20241103T090000
END:STANDARD
BEGIN:DAYLIGHT
TZOFFSETFROM:-0800
TZOFFSETTO:-0700
TZNAME:PDT
DTSTART:20250309T100000
END:DAYLIGHT
BEGIN:STANDARD
TZOFFSETFROM:-0700
TZOFFSETTO:-0800
TZNAME:PST
DTSTART:20251102T090000
END:STANDARD
BEGIN:DAYLIGHT
TZOFFSETFROM:-0800
TZOFFSETTO:-0700
TZNAME:PDT
DTSTART:20260308T100000
END:DAYLIGHT
BEGIN:STANDARD
TZOFFSETFROM:-0700
TZOFFSETTO:-0800
TZNAME:PST
DTSTART:20261101T090000
END:STANDARD
END:VTIMEZONE
BEGIN:VTIMEZONE
TZID:UTC
BEGIN:STANDARD
TZOFFSETFROM:+0000
TZOFFSETTO:+0000
TZNAME:UTC
DTSTART:20220101T000000
END:STANDARD
END:VTIMEZONE
BEGIN:VEVENT
DTSTART;TZID=America/Los_Angeles:20250712T100000
DTEND;TZID=America/Los_Angeles:20250712T120000
DTSTAMP:20260423T043124
CREATED:20250403T230515Z
LAST-MODIFIED:20250403T231907Z
UID:10000007-1752314400-1752321600@jeffkoertzen.com
SUMMARY:CADEM 103: Endorsements
DESCRIPTION:Register Here
URL:https://jeffkoertzen.com/event/cadem-103-endorsements/
LOCATION:Zoom
CATEGORIES:Delegate,Training
ORGANIZER;CN="Jeff Koertzen":MAILTO:jeff@jeffkoertzen.com
END:VEVENT
BEGIN:VEVENT
DTSTART;VALUE=DATE:20250530
DTEND;VALUE=DATE:20250602
DTSTAMP:20260423T043124
CREATED:20250403T231748Z
LAST-MODIFIED:20250403T231749Z
UID:10000008-1748563200-1748822399@jeffkoertzen.com
SUMMARY:2025 Convention
DESCRIPTION:
URL:https://jeffkoertzen.com/event/2025-convention/
LOCATION:Anaheim Convention Center\, 800 W. Katella Ave\, Anaheim\, CA\, 92802\, United States
CATEGORIES:Convention
ORGANIZER;CN="CADEM":MAILTO:operations@cadem.org
END:VEVENT
BEGIN:VEVENT
DTSTART;TZID=America/Los_Angeles:20250524T100000
DTEND;TZID=America/Los_Angeles:20250524T120000
DTSTAMP:20260423T043124
CREATED:20250403T230324Z
LAST-MODIFIED:20250403T230325Z
UID:10000006-1748080800-1748088000@jeffkoertzen.com
SUMMARY:CADEM 102: The Convention
DESCRIPTION:Register Here
URL:https://jeffkoertzen.com/event/cadem-102-the-convention/
LOCATION:Zoom
CATEGORIES:Delegate,Training
ORGANIZER;CN="Jeff Koertzen":MAILTO:jeff@jeffkoertzen.com
END:VEVENT
BEGIN:VEVENT
DTSTART;TZID=America/Los_Angeles:20250510T100000
DTEND;TZID=America/Los_Angeles:20250510T120000
DTSTAMP:20260423T043124
CREATED:20250403T230113Z
LAST-MODIFIED:20250403T230129Z
UID:10000005-1746871200-1746878400@jeffkoertzen.com
SUMMARY:CADEM 101: The Party
DESCRIPTION:Register Here
URL:https://jeffkoertzen.com/event/cadem-101-the-party/
LOCATION:Zoom
CATEGORIES:Delegate,Training
ORGANIZER;CN="Jeff Koertzen":MAILTO:jeff@jeffkoertzen.com
END:VEVENT
BEGIN:VEVENT
DTSTART;TZID=America/Los_Angeles:20250412T100000
DTEND;TZID=America/Los_Angeles:20250412T120000
DTSTAMP:20260423T043124
CREATED:20250403T222714Z
LAST-MODIFIED:20250403T222715Z
UID:10000004-1744452000-1744459200@jeffkoertzen.com
SUMMARY:Region 3 Pre-Convention Meeting
DESCRIPTION:
URL:https://jeffkoertzen.com/event/region-3-pre-convention-meeting/
LOCATION:Zoom
CATEGORIES:Meetings
ORGANIZER;CN="Jeff Koertzen":MAILTO:jeff@jeffkoertzen.com
END:VEVENT
BEGIN:VEVENT
DTSTART;VALUE=DATE:20230526
DTEND;VALUE=DATE:20230529
DTSTAMP:20260423T043124
CREATED:20230417T110845Z
LAST-MODIFIED:20230417T110849Z
UID:10000003-1685059200-1685318399@jeffkoertzen.com
SUMMARY:CADEM Convention 2023
DESCRIPTION:The 2023 Spring Convention will kick off for most delegates on Friday\, May 26. The Regional Director election will be held on Saturday. It will be electronic this year\, so look for information as the date approaches.
URL:https://jeffkoertzen.com/event/cadem-convention-2023/
LOCATION:Los Angeles Convention Center\, 1201 South Figueroa Street\, Los Angeles\, CA\, 90015\, United States
CATEGORIES:Convention
ATTACH;FMTTYPE=image/png:https://jeffkoertzen.com/wp-content/uploads/2023/04/Convention2023.png
ORGANIZER;CN="CADEM":MAILTO:operations@cadem.org
END:VEVENT
BEGIN:VEVENT
DTSTART;TZID=America/Los_Angeles:20230520T100000
DTEND;TZID=America/Los_Angeles:20230520T120000
DTSTAMP:20260423T043124
CREATED:20230417T110330Z
LAST-MODIFIED:20230417T164026Z
UID:10000002-1684576800-1684584000@jeffkoertzen.com
SUMMARY:CADEM 102: The Convention. How do I make the most of my time?
DESCRIPTION:An in-person CADEM convention can be overwhelming at first. We will discuss the general agenda as well as the specific agenda for this year’s convention. We will discuss what to expect in General Sessions as well as committee meetings\, caucus meetings\, and other events that are occurring throughout the convention and how to make the most of your time. \nREGISTER \nZoom provided by Democratic Party of Contra Costa County
URL:https://jeffkoertzen.com/event/cadem-102/
LOCATION:Zoom
CATEGORIES:Convention,Delegate,Training
ATTACH;FMTTYPE=image/jpeg:https://jeffkoertzen.com/wp-content/uploads/2023/04/Convention.jpg
ORGANIZER;CN="Jeff Koertzen":MAILTO:jeff@jeffkoertzen.com
END:VEVENT
BEGIN:VEVENT
DTSTART;TZID=America/Los_Angeles:20230422T100000
DTEND;TZID=America/Los_Angeles:20230422T120000
DTSTAMP:20260423T043124
CREATED:20230417T110119Z
LAST-MODIFIED:20230417T164327Z
UID:10000001-1682157600-1682164800@jeffkoertzen.com
SUMMARY:CADEM 101: The Party. How do I fit in?
DESCRIPTION:This training will cover the organizational structure of the California Democratic Party\, including officers\, regional directors\, and their roles. We will discuss committees and their functions. We will also discuss caucuses and their responsibilities. We will cover the overall 2-year and 4-year schedules for the Party as well as opportunities to get involved with the state party other than just attending convention. \nREGISTER \nZoom provided by Democratic Party of Contra Costa County
URL:https://jeffkoertzen.com/event/cadem-101/
LOCATION:Zoom
CATEGORIES:Convention,Delegate,Training
ATTACH;FMTTYPE=image/png:https://jeffkoertzen.com/wp-content/uploads/2023/04/2023-ADEM-Elections.png
ORGANIZER;CN="Jeff Koertzen":MAILTO:jeff@jeffkoertzen.com
END:VEVENT
END:VCALENDAR